BEGIN:VCALENDAR
VERSION:2.0
PRODID:-//www.ketchikanarts.org//NONSGML kigkonsult.se iCalcreator 2.30.10/
 /
CALSCALE:GREGORIAN
METHOD:PUBLISH
UID:52c79a6f-4fac-4cd7-a13f-5e7dc2d16c04
X-WR-CALDESC:Join in on an evening of Sea Shanties! Stop by for casual sing
 ing\, dining\, drinks and community with Greg Thomas and Diane Slagle!\nAl
 aska Fish House-6pm
X-WR-RELCALID:ba3fc4ab8b04c4b5002b2c3b2a9a64f5
X-WR-TIMEZONE:America/Anchorage
BEGIN:VTIMEZONE
TZID:America/Anchorage
BEGIN:STANDARD
TZNAME:AKST
DTSTART:20221106T020000
TZOFFSETFROM:-0800
TZOFFSETTO:-0900
RDATE:20231105T020000
RDATE:20241103T020000
END:STANDARD
BEGIN:DAYLIGHT
TZNAME:AKDT
DTSTART:20230312T020000
TZOFFSETFROM:-0900
TZOFFSETTO:-0800
RDATE:20240310T020000
END:DAYLIGHT
END:VTIMEZONE
BEGIN:VEVENT
UID:f74b47f3-376e-4cea-8a77-c3ebb936fcda
DTSTAMP:20260425T220743Z
DESCRIPTION:Join in on an evening of Sea Shanties! Stop by for casual singi
 ng\, dining\, drinks and community with Greg Thomas and Diane Slagle!\nAla
 ska Fish House-6pm
DTSTART;TZID=America/Anchorage:20230601T180000
DTEND;TZID=America/Anchorage:20230601T190000
LOCATION:Alaska Fish House
SUMMARY:Sea Shanties!!!
END:VEVENT
END:VCALENDAR
