BEGIN:VCALENDAR
VERSION:2.0
PRODID:-//www.ketchikanarts.org//NONSGML kigkonsult.se iCalcreator 2.30.10/
 /
CALSCALE:GREGORIAN
METHOD:PUBLISH
UID:7ca5a408-b778-46af-84bb-eea7988eb094
X-WR-CALDESC:Join Woody's Finest Hour for a Beginning of the Season Bash! 
 \nAll proceeds go to Andiamo Dance Company \n7pm\n$25 \nTed Ferry Civic Ce
 nter
X-WR-RELCALID:74f44d45013eedc1198b12c6631eed09
X-WR-TIMEZONE:America/Anchorage
BEGIN:VTIMEZONE
TZID:America/Anchorage
BEGIN:STANDARD
TZNAME:AKST
DTSTART:20221106T020000
TZOFFSETFROM:-0800
TZOFFSETTO:-0900
RDATE:20231105T020000
RDATE:20241103T020000
END:STANDARD
BEGIN:DAYLIGHT
TZNAME:AKDT
DTSTART:20230312T020000
TZOFFSETFROM:-0900
TZOFFSETTO:-0800
RDATE:20240310T020000
END:DAYLIGHT
END:VTIMEZONE
BEGIN:VEVENT
UID:e392bfbe-16b7-435c-a569-400570eaa6f4
DTSTAMP:20260425T233355Z
DESCRIPTION:Join Woody's Finest Hour for a Beginning of the Season Bash! \n
 All proceeds go to Andiamo Dance Company \n7pm\n$25 \nTed Ferry Civic Cent
 er
DTSTART;TZID=America/Anchorage:20230527T190000
DTEND;TZID=America/Anchorage:20230527T220000
LOCATION:
SUMMARY:Beginning of Season Bash
END:VEVENT
END:VCALENDAR
