BEGIN:VCALENDAR
VERSION:2.0
PRODID:-//www.ketchikanarts.org//NONSGML kigkonsult.se iCalcreator 2.30.10/
 /
CALSCALE:GREGORIAN
METHOD:PUBLISH
UID:911dd92e-254b-480d-b0d3-d3fa8c910df3
X-WR-CALDESC:Get your singing on at Open Mic Night every week.\nNo cover ch
 arge.
X-WR-RELCALID:81259472b212e4dc92d82213f360af1a
X-WR-TIMEZONE:America/Anchorage
BEGIN:VTIMEZONE
TZID:America/Anchorage
BEGIN:STANDARD
TZNAME:AKST
DTSTART:20221106T020000
TZOFFSETFROM:-0800
TZOFFSETTO:-0900
RDATE:20231105T020000
RDATE:20241103T020000
END:STANDARD
BEGIN:DAYLIGHT
TZNAME:AKDT
DTSTART:20230312T020000
TZOFFSETFROM:-0900
TZOFFSETTO:-0800
RDATE:20240310T020000
END:DAYLIGHT
END:VTIMEZONE
BEGIN:VEVENT
UID:feebcc0c-96d7-4c92-b1a6-78652f5ec819
DTSTAMP:20260425T233355Z
DESCRIPTION:Get your singing on at Open Mic Night every week.\nNo cover cha
 rge.
DTSTART;TZID=America/Anchorage:20230521T180000
DTEND;TZID=America/Anchorage:20230521T210000
LOCATION:
SUMMARY:Open Mic Night
END:VEVENT
END:VCALENDAR
