BEGIN:VCALENDAR
VERSION:2.0
PRODID:-//www.ketchikanarts.org//NONSGML kigkonsult.se iCalcreator 2.30.10/
 /
CALSCALE:GREGORIAN
METHOD:PUBLISH
UID:555270b9-04e2-445e-9063-4fea199b8fdb
X-WR-CALDESC:AJ Blue is playing tunes at the New York Cafe\n6pm-8pm\nNo Cov
 er \nNew York Cafe \n\nEnjoy!
X-WR-RELCALID:48237df4b26e3c292f5c49c5e34add5a
X-WR-TIMEZONE:America/Anchorage
BEGIN:VTIMEZONE
TZID:America/Anchorage
BEGIN:STANDARD
TZNAME:AKST
DTSTART:20221106T020000
TZOFFSETFROM:-0800
TZOFFSETTO:-0900
RDATE:20231105T020000
RDATE:20241103T020000
END:STANDARD
BEGIN:DAYLIGHT
TZNAME:AKDT
DTSTART:20230312T020000
TZOFFSETFROM:-0900
TZOFFSETTO:-0800
RDATE:20240310T020000
END:DAYLIGHT
END:VTIMEZONE
BEGIN:VEVENT
UID:944b8c15-a04a-4ff6-9082-bb4ce1c6e9c2
DTSTAMP:20260425T233553Z
DESCRIPTION:AJ Blue is playing tunes at the New York Cafe\n6pm-8pm\nNo Cove
 r \nNew York Cafe \n\nEnjoy!
DTSTART;TZID=America/Anchorage:20230520T180000
DTEND;TZID=America/Anchorage:20230520T200000
LOCATION:
SUMMARY:AJ Blue at New York Cafe
END:VEVENT
END:VCALENDAR
