BEGIN:VCALENDAR
VERSION:2.0
PRODID:-//www.ketchikanarts.org//NONSGML kigkonsult.se iCalcreator 2.30.10/
 /
CALSCALE:GREGORIAN
METHOD:PUBLISH
UID:6e7629e7-2e6b-462c-b9b4-a4da8896e76e
X-WR-CALDESC:
X-WR-RELCALID:ee9184a161a81391a34a36874bcb6f39
X-WR-TIMEZONE:America/Anchorage
BEGIN:VTIMEZONE
TZID:America/Anchorage
BEGIN:STANDARD
TZNAME:AKST
DTSTART:20221106T020000
TZOFFSETFROM:-0800
TZOFFSETTO:-0900
RDATE:20231105T020000
RDATE:20241103T020000
END:STANDARD
BEGIN:DAYLIGHT
TZNAME:AKDT
DTSTART:20230312T020000
TZOFFSETFROM:-0900
TZOFFSETTO:-0800
RDATE:20240310T020000
END:DAYLIGHT
END:VTIMEZONE
BEGIN:VEVENT
UID:69a6d11e-4db8-4c30-a72d-58d4d6346f91
DTSTAMP:20260425T233529Z
DESCRIPTION:
DTSTART;TZID=America/Anchorage:20230514T150000
DTEND;TZID=America/Anchorage:20230514T170000
LOCATION:
SUMMARY:Ketchikan Community Chorus Presents: Glorious Spring!
END:VEVENT
END:VCALENDAR
