BEGIN:VCALENDAR
VERSION:2.0
PRODID:-//www.ketchikanarts.org//NONSGML kigkonsult.se iCalcreator 2.30.10/
 /
CALSCALE:GREGORIAN
METHOD:PUBLISH
UID:99d49220-3eb6-4a49-af34-5d10a47c27ea
X-WR-CALDESC:Ketchikan Running Club presents the Totem to Totem half marath
 on! Click on the website link below for exact race times and more informat
 ion!
X-WR-RELCALID:3c44f1a445cee7c900788a293147b994
X-WR-TIMEZONE:America/Anchorage
BEGIN:VTIMEZONE
TZID:America/Anchorage
BEGIN:STANDARD
TZNAME:AKST
DTSTART:20221106T020000
TZOFFSETFROM:-0800
TZOFFSETTO:-0900
RDATE:20231105T020000
RDATE:20241103T020000
END:STANDARD
BEGIN:DAYLIGHT
TZNAME:AKDT
DTSTART:20230312T020000
TZOFFSETFROM:-0900
TZOFFSETTO:-0800
RDATE:20240310T020000
END:DAYLIGHT
END:VTIMEZONE
BEGIN:VEVENT
UID:bfc9a8b2-054a-4c19-bbf1-5a36bf85d14f
DTSTAMP:20260425T235327Z
DESCRIPTION:Ketchikan Running Club presents the Totem to Totem half maratho
 n! Click on the website link below for exact race times and more informati
 on!
DTSTART;TZID=America/Anchorage:20230513T120000
DTEND;TZID=America/Anchorage:20230513T130000
LOCATION:
SUMMARY:Totem to Totem Half Marathon - Ketchikan Running Club
END:VEVENT
END:VCALENDAR
