BEGIN:VCALENDAR
VERSION:2.0
PRODID:-//www.ketchikanarts.org//NONSGML kigkonsult.se iCalcreator 2.30.10/
 /
CALSCALE:GREGORIAN
METHOD:PUBLISH
UID:3b7babb7-7e26-4f09-9845-9065a49e35c7
X-WR-CALDESC:
X-WR-RELCALID:ce560bbbb3137da6247aa9474d4ea971
X-WR-TIMEZONE:America/Anchorage
BEGIN:VTIMEZONE
TZID:America/Anchorage
BEGIN:STANDARD
TZNAME:AKST
DTSTART:20221106T020000
TZOFFSETFROM:-0800
TZOFFSETTO:-0900
RDATE:20231105T020000
RDATE:20241103T020000
END:STANDARD
BEGIN:DAYLIGHT
TZNAME:AKDT
DTSTART:20230312T020000
TZOFFSETFROM:-0900
TZOFFSETTO:-0800
RDATE:20240310T020000
END:DAYLIGHT
END:VTIMEZONE
BEGIN:VEVENT
UID:9a986329-bd91-4b45-8f4b-250b578bbacb
DTSTAMP:20260425T233644Z
DESCRIPTION:
DTSTART;TZID=America/Anchorage:20230513T193000
DTEND;TZID=America/Anchorage:20230513T210000
LOCATION:
SUMMARY:Ketchikan Theatre Ballet Spring Gala!
END:VEVENT
END:VCALENDAR
