BEGIN:VCALENDAR
VERSION:2.0
PRODID:-//www.ketchikanarts.org//NONSGML kigkonsult.se iCalcreator 2.30.10/
 /
CALSCALE:GREGORIAN
METHOD:PUBLISH
UID:88bcfc26-152e-4619-a675-926badab3e88
X-WR-CALDESC:
X-WR-RELCALID:817afe1c45018a0563cefa4684f12af6
X-WR-TIMEZONE:America/Anchorage
BEGIN:VTIMEZONE
TZID:America/Anchorage
BEGIN:STANDARD
TZNAME:AKST
DTSTART:20221106T020000
TZOFFSETFROM:-0800
TZOFFSETTO:-0900
RDATE:20231105T020000
RDATE:20241103T020000
END:STANDARD
BEGIN:DAYLIGHT
TZNAME:AKDT
DTSTART:20230312T020000
TZOFFSETFROM:-0900
TZOFFSETTO:-0800
RDATE:20240310T020000
END:DAYLIGHT
END:VTIMEZONE
BEGIN:VEVENT
UID:d5e68589-a4bc-4452-9a17-3145a1bb0ac3
DTSTAMP:20260425T233512Z
DESCRIPTION:
DTSTART;TZID=America/Anchorage:20230512T190000
DTEND;TZID=America/Anchorage:20230512T210000
LOCATION:
SUMMARY:Ketchikan Community Chorus Presents: Glorious Spring!
END:VEVENT
END:VCALENDAR
