BEGIN:VCALENDAR
VERSION:2.0
PRODID:-//www.ketchikanarts.org//NONSGML kigkonsult.se iCalcreator 2.30.10/
 /
CALSCALE:GREGORIAN
METHOD:PUBLISH
UID:a0eb5099-c948-4b41-914b-e95501ccc93c
X-WR-CALDESC:Come listen to Dave\, Hannah\, and Chazz play at the New York 
 Cafe.\nNo Cover\nNew York Cafe
X-WR-RELCALID:aafc1c88c656903f70432db010b44d60
X-WR-TIMEZONE:America/Anchorage
BEGIN:VTIMEZONE
TZID:America/Anchorage
BEGIN:STANDARD
TZNAME:AKST
DTSTART:20221106T020000
TZOFFSETFROM:-0800
TZOFFSETTO:-0900
RDATE:20231105T020000
RDATE:20241103T020000
END:STANDARD
BEGIN:DAYLIGHT
TZNAME:AKDT
DTSTART:20230312T020000
TZOFFSETFROM:-0900
TZOFFSETTO:-0800
RDATE:20240310T020000
END:DAYLIGHT
END:VTIMEZONE
BEGIN:VEVENT
UID:0e15843d-2176-4667-a7b7-2c61e794641f
DTSTAMP:20260425T235700Z
DESCRIPTION:Come listen to Dave\, Hannah\, and Chazz play at the New York C
 afe.\nNo Cover\nNew York Cafe
DTSTART;TZID=America/Anchorage:20230512T190000
DTEND;TZID=America/Anchorage:20230512T210000
LOCATION:
SUMMARY:Live Music at the New York Cafe
END:VEVENT
END:VCALENDAR
