BEGIN:VCALENDAR
VERSION:2.0
PRODID:-//www.ketchikanarts.org//NONSGML kigkonsult.se iCalcreator 2.30.10/
 /
CALSCALE:GREGORIAN
METHOD:PUBLISH
UID:8a6ad9d9-3ef0-472e-8699-e72c40cf1ab1
X-WR-CALDESC:Join Ray Troll as he discusses his exhibit\, 'The Fabric of Li
 fe.'
X-WR-RELCALID:15db21b8e4a53e766440256a139d008e
X-WR-TIMEZONE:America/Anchorage
BEGIN:VTIMEZONE
TZID:America/Anchorage
BEGIN:STANDARD
TZNAME:AKST
DTSTART:20221106T020000
TZOFFSETFROM:-0800
TZOFFSETTO:-0900
RDATE:20231105T020000
RDATE:20241103T020000
END:STANDARD
BEGIN:DAYLIGHT
TZNAME:AKDT
DTSTART:20230312T020000
TZOFFSETFROM:-0900
TZOFFSETTO:-0800
RDATE:20240310T020000
END:DAYLIGHT
END:VTIMEZONE
BEGIN:VEVENT
UID:5c0eea16-53de-4f8e-aafd-4169538b33ec
DTSTAMP:20260425T234654Z
DESCRIPTION:Join Ray Troll as he discusses his exhibit\, 'The Fabric of Lif
 e.'
DTSTART;TZID=America/Anchorage:20230506T140000
DTEND;TZID=America/Anchorage:20230506T150000
LOCATION:
SUMMARY:The Fabric of Life Exhibit Presentation
END:VEVENT
END:VCALENDAR
