BEGIN:VCALENDAR
VERSION:2.0
PRODID:-//www.ketchikanarts.org//NONSGML kigkonsult.se iCalcreator 2.30.10/
 /
CALSCALE:GREGORIAN
METHOD:PUBLISH
UID:9defd2b7-7612-4ad9-af6c-a69127f04397
X-WR-CALDESC:Join the Schoenbar Middle School Music students in their Sprin
 g performance!!! (This performance date was moved from its original date o
 f May 9th.)
X-WR-RELCALID:8daf8ad03136d8eb34825a1bf83eb86e
X-WR-TIMEZONE:America/Anchorage
BEGIN:VTIMEZONE
TZID:America/Anchorage
BEGIN:STANDARD
TZNAME:AKST
DTSTART:20221106T020000
TZOFFSETFROM:-0800
TZOFFSETTO:-0900
RDATE:20231105T020000
END:STANDARD
BEGIN:DAYLIGHT
TZNAME:AKDT
DTSTART:20230312T020000
TZOFFSETFROM:-0900
TZOFFSETTO:-0800
RDATE:20240310T020000
END:DAYLIGHT
END:VTIMEZONE
BEGIN:VEVENT
UID:4fd7a709-48fa-482d-a25a-d5cdb429e5a0
DTSTAMP:20260425T233248Z
DESCRIPTION:Join the Schoenbar Middle School Music students in their Spring
  performance!!! (This performance date was moved from its original date of
  May 9th.)
DTSTART;TZID=America/Anchorage:20230504T190000
DTEND;TZID=America/Anchorage:20230504T210000
LOCATION:Schoenbar Middle School Gym
SUMMARY:SMS Spring Concert
END:VEVENT
END:VCALENDAR
