BEGIN:VCALENDAR
VERSION:2.0
PRODID:-//www.ketchikanarts.org//NONSGML kigkonsult.se iCalcreator 2.30.10/
 /
CALSCALE:GREGORIAN
METHOD:PUBLISH
UID:52d3d3e2-a17b-4b40-b443-c2f7b56861da
X-WR-CALDESC:Artist MJ Turek offers opportunities to experiment with a wide
  variety of watercolor techniques. Students will be able to practice novel
  ways to create with watercolor and/or make a watercolor technique guide. 
   Limited to 14 students - sign up quick\n\n6:30 to 8:30pm\n\n$35 per pers
 on\, $45 the week of the class
X-WR-RELCALID:ed59da8ee47c7a3563007fcfac8f29c9
X-WR-TIMEZONE:America/Anchorage
BEGIN:VTIMEZONE
TZID:America/Anchorage
BEGIN:STANDARD
TZNAME:AKST
DTSTART:20221106T020000
TZOFFSETFROM:-0800
TZOFFSETTO:-0900
RDATE:20231105T020000
END:STANDARD
BEGIN:DAYLIGHT
TZNAME:AKDT
DTSTART:20230312T020000
TZOFFSETFROM:-0900
TZOFFSETTO:-0800
RDATE:20240310T020000
END:DAYLIGHT
END:VTIMEZONE
BEGIN:VEVENT
UID:10959489-7cf0-408f-b673-9cf4d096e207
DTSTAMP:20260426T011252Z
DESCRIPTION:Artist MJ Turek offers opportunities to experiment with a wide 
 variety of watercolor techniques. Students will be able to practice novel 
 ways to create with watercolor and/or make a watercolor technique guide.  
  Limited to 14 students - sign up quick\n\n6:30 to 8:30pm\n\n$35 per perso
 n\, $45 the week of the class
DTSTART;TZID=America/Anchorage:20230428T183000
DTEND;TZID=America/Anchorage:20230428T210000
LOCATION:Main Street Gallery
SUMMARY:Arts Uncorked with MJ Turek!!
END:VEVENT
END:VCALENDAR
