BEGIN:VCALENDAR
VERSION:2.0
PRODID:-//www.ketchikanarts.org//NONSGML kigkonsult.se iCalcreator 2.30.10/
 /
CALSCALE:GREGORIAN
METHOD:PUBLISH
UID:be196717-3546-497c-ba28-ef5eb1687dc4
X-WR-CALDESC:Come listen to Dave\, Hannah\, and Chazz play at the New York 
 Cafe.\nNo Cover\nNew York Cafe
X-WR-RELCALID:611ee11aeaf412c814b2115f48c9b819
X-WR-TIMEZONE:America/Anchorage
BEGIN:VTIMEZONE
TZID:America/Anchorage
BEGIN:STANDARD
TZNAME:AKST
DTSTART:20221106T020000
TZOFFSETFROM:-0800
TZOFFSETTO:-0900
RDATE:20231105T020000
END:STANDARD
BEGIN:DAYLIGHT
TZNAME:AKDT
DTSTART:20230312T020000
TZOFFSETFROM:-0900
TZOFFSETTO:-0800
RDATE:20240310T020000
END:DAYLIGHT
END:VTIMEZONE
BEGIN:VEVENT
UID:a0b95247-41ac-455b-8417-7fd08fbf36d7
DTSTAMP:20260426T011822Z
DESCRIPTION:Come listen to Dave\, Hannah\, and Chazz play at the New York C
 afe.\nNo Cover\nNew York Cafe
DTSTART;TZID=America/Anchorage:20230428T190000
DTEND;TZID=America/Anchorage:20230428T210000
LOCATION:
SUMMARY:Live Music at the New York Cafe
END:VEVENT
END:VCALENDAR
