BEGIN:VCALENDAR
VERSION:2.0
PRODID:-//www.ketchikanarts.org//NONSGML kigkonsult.se iCalcreator 2.30.10/
 /
CALSCALE:GREGORIAN
METHOD:PUBLISH
UID:39785cb1-031e-4b18-a4d0-c9d2a3aa44e8
X-WR-CALDESC:Join in on an evening of Sea Shanties! Stop by for casual sing
 ing\, dining\, drinks and community!\nAlaska Fish House-6pm
X-WR-RELCALID:b0b9151e7d94d5a32aa26138d3679855
X-WR-TIMEZONE:America/Anchorage
BEGIN:VTIMEZONE
TZID:America/Anchorage
BEGIN:STANDARD
TZNAME:AKST
DTSTART:20221106T020000
TZOFFSETFROM:-0800
TZOFFSETTO:-0900
RDATE:20231105T020000
END:STANDARD
BEGIN:DAYLIGHT
TZNAME:AKDT
DTSTART:20230312T020000
TZOFFSETFROM:-0900
TZOFFSETTO:-0800
RDATE:20240310T020000
END:DAYLIGHT
END:VTIMEZONE
BEGIN:VEVENT
UID:abf47eff-7ffe-4ed2-9beb-00aed2608ead
DTSTAMP:20260426T011808Z
DESCRIPTION:Join in on an evening of Sea Shanties! Stop by for casual singi
 ng\, dining\, drinks and community!\nAlaska Fish House-6pm
DTSTART;TZID=America/Anchorage:20230427T180000
DTEND;TZID=America/Anchorage:20230427T190000
LOCATION:Alaska Fish House
SUMMARY:The Sea Shanty
END:VEVENT
END:VCALENDAR
