BEGIN:VCALENDAR
VERSION:2.0
PRODID:-//www.ketchikanarts.org//NONSGML kigkonsult.se iCalcreator 2.30.10/
 /
CALSCALE:GREGORIAN
METHOD:PUBLISH
UID:12730df6-9d22-4218-96bd-ede9409b8895
X-WR-CALDESC:Ketchikan Running Club presents the Hills from Hell run! Click
  on the website link below for exact race times and more information!
X-WR-RELCALID:d58f91acdb4c5e169edf121f4cae1453
X-WR-TIMEZONE:America/Anchorage
BEGIN:VTIMEZONE
TZID:America/Anchorage
BEGIN:STANDARD
TZNAME:AKST
DTSTART:20221106T020000
TZOFFSETFROM:-0800
TZOFFSETTO:-0900
RDATE:20231105T020000
END:STANDARD
BEGIN:DAYLIGHT
TZNAME:AKDT
DTSTART:20230312T020000
TZOFFSETFROM:-0900
TZOFFSETTO:-0800
RDATE:20240310T020000
END:DAYLIGHT
END:VTIMEZONE
BEGIN:VEVENT
UID:c4329b40-7980-434d-b84c-8ab32ce494d3
DTSTAMP:20260426T011448Z
DESCRIPTION:Ketchikan Running Club presents the Hills from Hell run! Click 
 on the website link below for exact race times and more information!
DTSTART;TZID=America/Anchorage:20230423T120000
DTEND;TZID=America/Anchorage:20230423T130000
LOCATION:
SUMMARY:Hills from Hell - Ketchikan Running Club
END:VEVENT
END:VCALENDAR
