BEGIN:VCALENDAR
VERSION:2.0
PRODID:-//www.ketchikanarts.org//NONSGML kigkonsult.se iCalcreator 2.30.10/
 /
CALSCALE:GREGORIAN
METHOD:PUBLISH
UID:862640a3-e7dd-4879-8cbf-636c331480e4
X-WR-CALDESC:
X-WR-RELCALID:8bcaeaf1210f3c595a1ca2995c67bbe6
X-WR-TIMEZONE:America/Anchorage
BEGIN:VTIMEZONE
TZID:America/Anchorage
BEGIN:STANDARD
TZNAME:AKST
DTSTART:20221106T020000
TZOFFSETFROM:-0800
TZOFFSETTO:-0900
RDATE:20231105T020000
END:STANDARD
BEGIN:DAYLIGHT
TZNAME:AKDT
DTSTART:20230312T020000
TZOFFSETFROM:-0900
TZOFFSETTO:-0800
RDATE:20240310T020000
END:DAYLIGHT
END:VTIMEZONE
BEGIN:VEVENT
UID:31609ccc-d033-43d1-aefb-62f36685bb3e
DTSTAMP:20260426T011556Z
DESCRIPTION:
DTSTART;TZID=America/Anchorage:20230415T190000
DTEND;TZID=America/Anchorage:20230415T210000
LOCATION:
SUMMARY:The Monthly Grind!
END:VEVENT
END:VCALENDAR
