BEGIN:VCALENDAR
VERSION:2.0
PRODID:-//www.ketchikanarts.org//NONSGML kigkonsult.se iCalcreator 2.30.10/
 /
CALSCALE:GREGORIAN
METHOD:PUBLISH
UID:ce4ccf9b-efe1-422c-9c72-9ea26aba0189
X-WR-CALDESC:First City Players Starpath Theatre Classes with Jack Finnegan
 \nFor ages 3rd & 4th grade\, these classes help build confidence\, collabo
 ration\, critical and thinking. To sign up email info@firstcityplayers.org
 \, see under 'classes' for more information.\nFirst City Players Office - 
 11:30-12:30pm 
X-WR-RELCALID:815223c9d3ffa506f51ff79d1428e08e
X-WR-TIMEZONE:America/Anchorage
BEGIN:VTIMEZONE
TZID:America/Anchorage
BEGIN:STANDARD
TZNAME:AKST
DTSTART:20221106T020000
TZOFFSETFROM:-0800
TZOFFSETTO:-0900
RDATE:20231105T020000
END:STANDARD
BEGIN:DAYLIGHT
TZNAME:AKDT
DTSTART:20230312T020000
TZOFFSETFROM:-0900
TZOFFSETTO:-0800
RDATE:20240310T020000
END:DAYLIGHT
END:VTIMEZONE
BEGIN:VEVENT
UID:52d4727a-87a6-428e-8902-a0dd8a84c71b
DTSTAMP:20260426T011804Z
DESCRIPTION:First City Players Starpath Theatre Classes with Jack Finnegan
 \nFor ages 3rd & 4th grade\, these classes help build confidence\, collabo
 ration\, critical and thinking. To sign up email info@firstcityplayers.org
 \, see under 'classes' for more information.\nFirst City Players Office - 
 11:30-12:30pm 
DTSTART;TZID=America/Anchorage:20230415T113000
DTEND;TZID=America/Anchorage:20230415T123000
LOCATION:First City Players Office
SUMMARY:First City Players Starpath Theatre Classes with Jack Finnegan
END:VEVENT
END:VCALENDAR
