BEGIN:VCALENDAR
VERSION:2.0
PRODID:-//www.ketchikanarts.org//NONSGML kigkonsult.se iCalcreator 2.30.10/
 /
CALSCALE:GREGORIAN
METHOD:PUBLISH
UID:c778854e-8e44-458b-b716-3583d0bbe0ae
X-WR-CALDESC:
X-WR-RELCALID:f922c4de4ca26793f6b5ea340876648c
X-WR-TIMEZONE:America/Anchorage
BEGIN:VTIMEZONE
TZID:America/Anchorage
BEGIN:STANDARD
TZNAME:AKST
DTSTART:20221106T020000
TZOFFSETFROM:-0800
TZOFFSETTO:-0900
RDATE:20231105T020000
END:STANDARD
BEGIN:DAYLIGHT
TZNAME:AKDT
DTSTART:20230312T020000
TZOFFSETFROM:-0900
TZOFFSETTO:-0800
RDATE:20240310T020000
END:DAYLIGHT
END:VTIMEZONE
BEGIN:VEVENT
UID:a2dbe4e5-c6d7-4906-b967-96b5d2c81f8c
DTSTAMP:20260426T011751Z
DESCRIPTION:
DTSTART;TZID=America/Anchorage:20230414T000000
DTEND;TZID=America/Anchorage:20230414T235900
LOCATION:
SUMMARY:Regional Music Festival
END:VEVENT
END:VCALENDAR
