BEGIN:VCALENDAR
VERSION:2.0
PRODID:-//www.ketchikanarts.org//NONSGML kigkonsult.se iCalcreator 2.30.10/
 /
CALSCALE:GREGORIAN
METHOD:PUBLISH
UID:6ecada7a-61e2-40ed-a31c-c1ca76f883cc
X-WR-CALDESC:
X-WR-RELCALID:c8f79c4e4711cfc73d7f0787ca82c0fe
X-WR-TIMEZONE:America/Anchorage
BEGIN:VTIMEZONE
TZID:America/Anchorage
BEGIN:STANDARD
TZNAME:AKST
DTSTART:20221106T020000
TZOFFSETFROM:-0800
TZOFFSETTO:-0900
RDATE:20231105T020000
END:STANDARD
BEGIN:DAYLIGHT
TZNAME:AKDT
DTSTART:20230312T020000
TZOFFSETFROM:-0900
TZOFFSETTO:-0800
RDATE:20240310T020000
END:DAYLIGHT
END:VTIMEZONE
BEGIN:VEVENT
UID:5bb05a03-2aff-417c-b765-68c31cf4fe6e
DTSTAMP:20260426T011251Z
DESCRIPTION:
DTSTART;TZID=America/Anchorage:20230410T170000
DTEND;TZID=America/Anchorage:20230410T190000
LOCATION:Just Dandy
SUMMARY:La Gwelga Lak Adaaws Sessions
END:VEVENT
END:VCALENDAR
