BEGIN:VCALENDAR
VERSION:2.0
PRODID:-//www.ketchikanarts.org//NONSGML kigkonsult.se iCalcreator 2.30.10/
 /
CALSCALE:GREGORIAN
METHOD:PUBLISH
UID:2aa1790b-a45a-4266-9e56-7322d9baeb90
X-WR-CALDESC:An open call exhibit for artist working in any medium to creat
 e artwork within the confines of 12 x 12 x 12 inches\, and poetry extracte
 d from published literature.
X-WR-RELCALID:baec361bd2d4af0446598b357b8b4df6
X-WR-TIMEZONE:America/Anchorage
BEGIN:VTIMEZONE
TZID:America/Anchorage
BEGIN:STANDARD
TZNAME:AKST
DTSTART:20221106T020000
TZOFFSETFROM:-0800
TZOFFSETTO:-0900
RDATE:20231105T020000
END:STANDARD
BEGIN:DAYLIGHT
TZNAME:AKDT
DTSTART:20230312T020000
TZOFFSETFROM:-0900
TZOFFSETTO:-0800
RDATE:20240310T020000
END:DAYLIGHT
END:VTIMEZONE
BEGIN:VEVENT
UID:3f9c076b-0b8b-43f7-b761-05dbb62da27e
DTSTAMP:20260426T011628Z
DESCRIPTION:An open call exhibit for artist working in any medium to create
  artwork within the confines of 12 x 12 x 12 inches\, and poetry extracted
  from published literature.
DTSTART;TZID=America/Anchorage:20230408T170000
DTEND;TZID=America/Anchorage:20230428T170000
LOCATION:Main Street Gallery
SUMMARY:Main Street Gallery 'Squaring Off & Blackout Poetry' combined!
END:VEVENT
END:VCALENDAR
