BEGIN:VCALENDAR
VERSION:2.0
PRODID:-//www.ketchikanarts.org//NONSGML kigkonsult.se iCalcreator 2.30.10/
 /
CALSCALE:GREGORIAN
METHOD:PUBLISH
UID:fa8ca1d8-fc46-4211-9f93-23d789421846
X-WR-CALDESC:An open call exhibit for artist working in any medium to creat
 e artwork within the confines of 12 x 12 x 12 inches\, and poetry extracte
 d from published literature.
X-WR-RELCALID:c150f8cec69ade05490f3a865f141832
X-WR-TIMEZONE:America/Anchorage
BEGIN:VTIMEZONE
TZID:America/Anchorage
BEGIN:STANDARD
TZNAME:AKST
DTSTART:20221106T020000
TZOFFSETFROM:-0800
TZOFFSETTO:-0900
RDATE:20231105T020000
END:STANDARD
BEGIN:DAYLIGHT
TZNAME:AKDT
DTSTART:20230312T020000
TZOFFSETFROM:-0900
TZOFFSETTO:-0800
RDATE:20240310T020000
END:DAYLIGHT
END:VTIMEZONE
BEGIN:VEVENT
UID:1971b608-4cbb-4ad8-b83e-1d2b0a5ad93b
DTSTAMP:20260426T011807Z
DESCRIPTION:An open call exhibit for artist working in any medium to create
  artwork within the confines of 12 x 12 x 12 inches\, and poetry extracted
  from published literature.
DTSTART;TZID=America/Anchorage:20230407T170000
DTEND;TZID=America/Anchorage:20230407T190000
LOCATION:Main Street Gallery
SUMMARY:Opening Main Street Gallery 'Squaring Off & Blackout Poetry' combin
 ed!
END:VEVENT
END:VCALENDAR
