BEGIN:VCALENDAR
VERSION:2.0
PRODID:-//www.ketchikanarts.org//NONSGML kigkonsult.se iCalcreator 2.30.10/
 /
CALSCALE:GREGORIAN
METHOD:PUBLISH
UID:ea0e11d5-b629-4c13-9bc5-a69415b636c1
X-WR-CALDESC:Come listen to Dave\, Hannah\, and Chazz play at the New York 
 Cafe.\nNo Cover\nNew York Cafe
X-WR-RELCALID:cabaaf7b7c98a0b5a2d47c290afd0a72
X-WR-TIMEZONE:America/Anchorage
BEGIN:VTIMEZONE
TZID:America/Anchorage
BEGIN:STANDARD
TZNAME:AKST
DTSTART:20221106T020000
TZOFFSETFROM:-0800
TZOFFSETTO:-0900
RDATE:20231105T020000
END:STANDARD
BEGIN:DAYLIGHT
TZNAME:AKDT
DTSTART:20230312T020000
TZOFFSETFROM:-0900
TZOFFSETTO:-0800
RDATE:20240310T020000
END:DAYLIGHT
END:VTIMEZONE
BEGIN:VEVENT
UID:371df418-1793-4187-bc8c-f666589e4f91
DTSTAMP:20260421T083252Z
DESCRIPTION:Come listen to Dave\, Hannah\, and Chazz play at the New York C
 afe.\nNo Cover\nNew York Cafe
DTSTART;TZID=America/Anchorage:20230407T190000
DTEND;TZID=America/Anchorage:20230407T210000
LOCATION:
SUMMARY:Live Music at the New York Cafe
END:VEVENT
END:VCALENDAR
