BEGIN:VCALENDAR
VERSION:2.0
PRODID:-//www.ketchikanarts.org//NONSGML kigkonsult.se iCalcreator 2.30.10/
 /
CALSCALE:GREGORIAN
METHOD:PUBLISH
UID:a85b18ee-fcbd-4e94-a46c-47020f95eb96
X-WR-CALDESC:Join Greg Thomas and Diane Slagle at 6pm for the Sea Shanty\nN
 o Cover \nAt the Alaska Fish House
X-WR-RELCALID:43ca3c93ce4fc6e3da78cc079fc98258
X-WR-TIMEZONE:America/Anchorage
BEGIN:VTIMEZONE
TZID:America/Anchorage
BEGIN:STANDARD
TZNAME:AKST
DTSTART:20221106T020000
TZOFFSETFROM:-0800
TZOFFSETTO:-0900
RDATE:20231105T020000
END:STANDARD
BEGIN:DAYLIGHT
TZNAME:AKDT
DTSTART:20230312T020000
TZOFFSETFROM:-0900
TZOFFSETTO:-0800
RDATE:20240310T020000
END:DAYLIGHT
END:VTIMEZONE
BEGIN:VEVENT
UID:fab7de32-a9c0-419e-a59a-d8fe5d9a4346
DTSTAMP:20260426T011408Z
DESCRIPTION:Join Greg Thomas and Diane Slagle at 6pm for the Sea Shanty\nNo
  Cover \nAt the Alaska Fish House
DTSTART;TZID=America/Anchorage:20230406T180000
DTEND;TZID=America/Anchorage:20230406T210000
LOCATION:
SUMMARY:The Sea Shanty
END:VEVENT
END:VCALENDAR
