BEGIN:VCALENDAR
VERSION:2.0
PRODID:-//www.ketchikanarts.org//NONSGML kigkonsult.se iCalcreator 2.30.10/
 /
CALSCALE:GREGORIAN
METHOD:PUBLISH
UID:e25b8c50-51b7-41f5-abc8-2c02adcc1da8
X-WR-CALDESC:Come listen to Dave\, Hannah\, and Chazz play at the New York 
 Cafe.\nNo Cover\nNew York Cafe
X-WR-RELCALID:ae54b567b2036b5cbc915ebc2234c757
X-WR-TIMEZONE:America/Anchorage
BEGIN:VTIMEZONE
TZID:America/Anchorage
BEGIN:STANDARD
TZNAME:AKST
DTSTART:20221106T020000
TZOFFSETFROM:-0800
TZOFFSETTO:-0900
RDATE:20231105T020000
END:STANDARD
BEGIN:DAYLIGHT
TZNAME:AKDT
DTSTART:20230312T020000
TZOFFSETFROM:-0900
TZOFFSETTO:-0800
RDATE:20240310T020000
END:DAYLIGHT
END:VTIMEZONE
BEGIN:VEVENT
UID:773cdbe1-6947-4cee-8688-bfbbd7c573a4
DTSTAMP:20260426T030754Z
DESCRIPTION:Come listen to Dave\, Hannah\, and Chazz play at the New York C
 afe.\nNo Cover\nNew York Cafe
DTSTART;TZID=America/Anchorage:20230331T190000
DTEND;TZID=America/Anchorage:20230331T210000
LOCATION:
SUMMARY:Live Music at the New York Cafe
END:VEVENT
END:VCALENDAR
