BEGIN:VCALENDAR
VERSION:2.0
PRODID:-//www.ketchikanarts.org//NONSGML kigkonsult.se iCalcreator 2.30.10/
 /
CALSCALE:GREGORIAN
METHOD:PUBLISH
UID:eb9a7e35-8b8c-43a6-95f5-8087665d813c
X-WR-CALDESC:James and the Giant Peach\nby Kayhi Drama Kings \n\nTickets:\n
 Adults: $15\nStudent/Child: $5\n\nat Kayhi Auditorium
X-WR-RELCALID:d6b63a756bd6470316548a17b055e434
X-WR-TIMEZONE:America/Anchorage
BEGIN:VTIMEZONE
TZID:America/Anchorage
BEGIN:STANDARD
TZNAME:AKST
DTSTART:20221106T020000
TZOFFSETFROM:-0800
TZOFFSETTO:-0900
RDATE:20231105T020000
END:STANDARD
BEGIN:DAYLIGHT
TZNAME:AKDT
DTSTART:20230312T020000
TZOFFSETFROM:-0900
TZOFFSETTO:-0800
RDATE:20240310T020000
END:DAYLIGHT
END:VTIMEZONE
BEGIN:VEVENT
UID:615d1679-651c-4099-8d47-59747b398a83
DTSTAMP:20260426T030945Z
DESCRIPTION:James and the Giant Peach\nby Kayhi Drama Kings \n\nTickets:\nA
 dults: $15\nStudent/Child: $5\n\nat Kayhi Auditorium
DTSTART;TZID=America/Anchorage:20230331T190000
DTEND;TZID=America/Anchorage:20230331T210000
LOCATION:
SUMMARY:James and The Giant Peach presented by Kayhi Drama Kings
END:VEVENT
END:VCALENDAR
