BEGIN:VCALENDAR
VERSION:2.0
PRODID:-//www.ketchikanarts.org//NONSGML kigkonsult.se iCalcreator 2.30.10/
 /
CALSCALE:GREGORIAN
METHOD:PUBLISH
UID:d18c1e2c-68cb-4e0c-a8b1-3740c29aef19
X-WR-CALDESC:Open Call & Submission deadline due today! Download the fillab
 le artwork submission form and bring it with you when you drop off your pi
 ece - or fill one out when you get here!
X-WR-RELCALID:771b8347ed721871ff87d5b8477e9234
X-WR-TIMEZONE:America/Anchorage
BEGIN:VTIMEZONE
TZID:America/Anchorage
BEGIN:STANDARD
TZNAME:AKST
DTSTART:20221106T020000
TZOFFSETFROM:-0800
TZOFFSETTO:-0900
RDATE:20231105T020000
END:STANDARD
BEGIN:DAYLIGHT
TZNAME:AKDT
DTSTART:20230312T020000
TZOFFSETFROM:-0900
TZOFFSETTO:-0800
RDATE:20240310T020000
END:DAYLIGHT
END:VTIMEZONE
BEGIN:VEVENT
UID:63ae1887-dc2b-4e3a-b397-b6a3521b9a52
DTSTAMP:20260426T025850Z
DESCRIPTION:Open Call & Submission deadline due today! Download the fillabl
 e artwork submission form and bring it with you when you drop off your pie
 ce - or fill one out when you get here!
DTSTART;TZID=America/Anchorage:20230331T150000
DTEND;TZID=America/Anchorage:20230331T170000
LOCATION:Main Street Gallery
SUMMARY:'Black Out Poetry' Open Call\, Submission Deadline
END:VEVENT
END:VCALENDAR
