BEGIN:VCALENDAR
VERSION:2.0
PRODID:-//www.ketchikanarts.org//NONSGML kigkonsult.se iCalcreator 2.30.10/
 /
CALSCALE:GREGORIAN
METHOD:PUBLISH
UID:8561f248-5ed2-4026-903c-0ab6f66281bc
X-WR-CALDESC:Join Niles every on Wednesday for live music!\n11am-1pm\nNo co
 ver\nAt The Pilot House
X-WR-RELCALID:0056c6c19fba0c2505cf7f34c452aaa8
X-WR-TIMEZONE:America/Anchorage
BEGIN:VTIMEZONE
TZID:America/Anchorage
BEGIN:STANDARD
TZNAME:AKST
DTSTART:20221106T020000
TZOFFSETFROM:-0800
TZOFFSETTO:-0900
RDATE:20231105T020000
END:STANDARD
BEGIN:DAYLIGHT
TZNAME:AKDT
DTSTART:20230312T020000
TZOFFSETFROM:-0900
TZOFFSETTO:-0800
RDATE:20240310T020000
END:DAYLIGHT
END:VTIMEZONE
BEGIN:VEVENT
UID:9ae7cc6d-38aa-417a-9dd2-000b8c51beb7
DTSTAMP:20260426T025635Z
DESCRIPTION:Join Niles every on Wednesday for live music!\n11am-1pm\nNo cov
 er\nAt The Pilot House
DTSTART;TZID=America/Anchorage:20230329T110000
DTEND;TZID=America/Anchorage:20230329T130000
LOCATION:
SUMMARY:Music with Niles Corporon
END:VEVENT
END:VCALENDAR
