BEGIN:VCALENDAR
VERSION:2.0
PRODID:-//www.ketchikanarts.org//NONSGML kigkonsult.se iCalcreator 2.30.10/
 /
CALSCALE:GREGORIAN
METHOD:PUBLISH
UID:cc61574b-1ba4-4400-9cd6-55c05630407d
X-WR-CALDESC:Join us for our monthly meeting!
X-WR-RELCALID:ad8264568fdd250d8c5034816a29090c
X-WR-TIMEZONE:America/Anchorage
BEGIN:VTIMEZONE
TZID:America/Anchorage
BEGIN:STANDARD
TZNAME:AKST
DTSTART:20221106T020000
TZOFFSETFROM:-0800
TZOFFSETTO:-0900
RDATE:20231105T020000
END:STANDARD
BEGIN:DAYLIGHT
TZNAME:AKDT
DTSTART:20230312T020000
TZOFFSETFROM:-0900
TZOFFSETTO:-0800
RDATE:20240310T020000
END:DAYLIGHT
END:VTIMEZONE
BEGIN:VEVENT
UID:3a5b9379-b261-4e61-8751-9b02f14ade94
DTSTAMP:20260426T025752Z
DESCRIPTION:Join us for our monthly meeting!
DTSTART;TZID=America/Anchorage:20230328T183000
DTEND;TZID=America/Anchorage:20230328T200000
LOCATION:Holy Name Parish Hall
SUMMARY:Rainy Day Quilt Guild Meeting
END:VEVENT
END:VCALENDAR
