BEGIN:VCALENDAR
VERSION:2.0
PRODID:-//www.ketchikanarts.org//NONSGML kigkonsult.se iCalcreator 2.30.10/
 /
CALSCALE:GREGORIAN
METHOD:PUBLISH
UID:bf9ef423-b0ac-4be0-b350-fb26f5bf05c9
X-WR-CALDESC:Join Evon Zerbetz for a free book-making event.
X-WR-RELCALID:208a4979b39bd22eb3fb4fcc154e031a
X-WR-TIMEZONE:America/Anchorage
BEGIN:VTIMEZONE
TZID:America/Anchorage
BEGIN:STANDARD
TZNAME:AKST
DTSTART:20221106T020000
TZOFFSETFROM:-0800
TZOFFSETTO:-0900
RDATE:20231105T020000
END:STANDARD
BEGIN:DAYLIGHT
TZNAME:AKDT
DTSTART:20230312T020000
TZOFFSETFROM:-0900
TZOFFSETTO:-0800
RDATE:20240310T020000
END:DAYLIGHT
END:VTIMEZONE
BEGIN:VEVENT
UID:119ef3d1-8edb-418c-80b6-092bb9845bb7
DTSTAMP:20260426T025302Z
DESCRIPTION:Join Evon Zerbetz for a free book-making event.
DTSTART;TZID=America/Anchorage:20230325T150000
DTEND;TZID=America/Anchorage:20230325T160000
LOCATION:
SUMMARY:The Tiny Book Project
END:VEVENT
END:VCALENDAR
