BEGIN:VCALENDAR
VERSION:2.0
PRODID:-//www.ketchikanarts.org//NONSGML kigkonsult.se iCalcreator 2.30.10/
 /
CALSCALE:GREGORIAN
METHOD:PUBLISH
UID:4a33319c-8784-4c56-a395-f0c4facb6cd8
X-WR-CALDESC:
X-WR-RELCALID:aa2e811ffc1bde0caaadba203483612f
X-WR-TIMEZONE:America/Anchorage
BEGIN:VTIMEZONE
TZID:America/Anchorage
BEGIN:STANDARD
TZNAME:AKST
DTSTART:20221106T020000
TZOFFSETFROM:-0800
TZOFFSETTO:-0900
RDATE:20231105T020000
END:STANDARD
BEGIN:DAYLIGHT
TZNAME:AKDT
DTSTART:20230312T020000
TZOFFSETFROM:-0900
TZOFFSETTO:-0800
RDATE:20240310T020000
END:DAYLIGHT
END:VTIMEZONE
BEGIN:VEVENT
UID:b3d63632-e9ce-427b-b5e6-8c4a5ed104fd
DTSTAMP:20260426T024355Z
DESCRIPTION:
DTSTART;TZID=America/Anchorage:20230325T100000
DTEND;TZID=America/Anchorage:20230325T120000
LOCATION:
SUMMARY:Japan Day
END:VEVENT
END:VCALENDAR
