BEGIN:VCALENDAR
VERSION:2.0
PRODID:-//www.ketchikanarts.org//NONSGML kigkonsult.se iCalcreator 2.30.10/
 /
CALSCALE:GREGORIAN
METHOD:PUBLISH
UID:2e8a0aaf-3a55-4f06-8441-51ac882b596f
X-WR-CALDESC:
X-WR-RELCALID:acd5271ca435729df144fece350a95b4
X-WR-TIMEZONE:America/Anchorage
BEGIN:VTIMEZONE
TZID:America/Anchorage
BEGIN:STANDARD
TZNAME:AKST
DTSTART:20221106T020000
TZOFFSETFROM:-0800
TZOFFSETTO:-0900
RDATE:20231105T020000
END:STANDARD
BEGIN:DAYLIGHT
TZNAME:AKDT
DTSTART:20230312T020000
TZOFFSETFROM:-0900
TZOFFSETTO:-0800
RDATE:20240310T020000
END:DAYLIGHT
END:VTIMEZONE
BEGIN:VEVENT
UID:00231c6b-e137-4ad0-8135-3178ac8543d3
DTSTAMP:20260426T030203Z
DESCRIPTION:
DTSTART;TZID=America/Anchorage:20230325T190000
DTEND;TZID=America/Anchorage:20230325T210000
LOCATION:Kayhi Auditorium
SUMMARY:2nd Annual Youth Wearable Show
END:VEVENT
END:VCALENDAR
