BEGIN:VCALENDAR
VERSION:2.0
PRODID:-//www.ketchikanarts.org//NONSGML kigkonsult.se iCalcreator 2.30.10/
 /
CALSCALE:GREGORIAN
METHOD:PUBLISH
UID:eac1a02b-33cd-47ca-bb69-72c7f9557a5c
X-WR-CALDESC:Come listen to Dave\, Hannah\, and Chazz play at the New York 
 Cafe.\nNo Cover\nNew York Cafe
X-WR-RELCALID:e3ef1772cc75e3cf8063951ea84c5223
X-WR-TIMEZONE:America/Anchorage
BEGIN:VTIMEZONE
TZID:America/Anchorage
BEGIN:STANDARD
TZNAME:AKST
DTSTART:20221106T020000
TZOFFSETFROM:-0800
TZOFFSETTO:-0900
RDATE:20231105T020000
END:STANDARD
BEGIN:DAYLIGHT
TZNAME:AKDT
DTSTART:20230312T020000
TZOFFSETFROM:-0900
TZOFFSETTO:-0800
RDATE:20240310T020000
END:DAYLIGHT
END:VTIMEZONE
BEGIN:VEVENT
UID:fdb4f80a-80d9-4e7e-99e0-41f091e1223b
DTSTAMP:20260426T030754Z
DESCRIPTION:Come listen to Dave\, Hannah\, and Chazz play at the New York C
 afe.\nNo Cover\nNew York Cafe
DTSTART;TZID=America/Anchorage:20230324T190000
DTEND;TZID=America/Anchorage:20230324T210000
LOCATION:
SUMMARY:Live Music at the New York Cafe
END:VEVENT
END:VCALENDAR
