BEGIN:VCALENDAR
VERSION:2.0
PRODID:-//www.ketchikanarts.org//NONSGML kigkonsult.se iCalcreator 2.30.10/
 /
CALSCALE:GREGORIAN
METHOD:PUBLISH
UID:69c8e154-2dec-4cc8-b81e-0642f1b7ad13
X-WR-CALDESC:
X-WR-RELCALID:c54092fb0df8a650a77af0e54b6b9bf5
X-WR-TIMEZONE:America/Anchorage
BEGIN:VTIMEZONE
TZID:America/Anchorage
BEGIN:STANDARD
TZNAME:AKST
DTSTART:20221106T020000
TZOFFSETFROM:-0800
TZOFFSETTO:-0900
RDATE:20231105T020000
END:STANDARD
BEGIN:DAYLIGHT
TZNAME:AKDT
DTSTART:20230312T020000
TZOFFSETFROM:-0900
TZOFFSETTO:-0800
RDATE:20240310T020000
END:DAYLIGHT
END:VTIMEZONE
BEGIN:VEVENT
UID:3b10c311-2ee7-4e78-95e5-96cf602b701a
DTSTAMP:20260426T025558Z
DESCRIPTION:
DTSTART;TZID=America/Anchorage:20230322T190000
DTEND;TZID=America/Anchorage:20230322T210000
LOCATION:Kayhi Auditorium
SUMMARY:Middle School Music Day Concert
END:VEVENT
END:VCALENDAR
