BEGIN:VCALENDAR
VERSION:2.0
PRODID:-//www.ketchikanarts.org//NONSGML kigkonsult.se iCalcreator 2.30.10/
 /
CALSCALE:GREGORIAN
METHOD:PUBLISH
UID:00f3154b-8f59-4a52-93d5-ff6cc8e09e2e
X-WR-CALDESC:
X-WR-RELCALID:e65b697561775fac184e0c5b99fa75d6
X-WR-TIMEZONE:America/Anchorage
BEGIN:VTIMEZONE
TZID:America/Anchorage
BEGIN:STANDARD
TZNAME:AKST
DTSTART:20221106T020000
TZOFFSETFROM:-0800
TZOFFSETTO:-0900
RDATE:20231105T020000
END:STANDARD
BEGIN:DAYLIGHT
TZNAME:AKDT
DTSTART:20230312T020000
TZOFFSETFROM:-0900
TZOFFSETTO:-0800
RDATE:20240310T020000
END:DAYLIGHT
END:VTIMEZONE
BEGIN:VEVENT
UID:a3608cee-ca62-409f-8b1f-55a7d9e343f2
DTSTAMP:20260426T025349Z
DESCRIPTION:
DTSTART;TZID=America/Anchorage:20230320T170000
DTEND;TZID=America/Anchorage:20230320T190000
LOCATION:Just Dandy
SUMMARY:La Gwelga Lak Adaaws Sessions
END:VEVENT
END:VCALENDAR
