BEGIN:VCALENDAR
VERSION:2.0
PRODID:-//www.ketchikanarts.org//NONSGML kigkonsult.se iCalcreator 2.30.10/
 /
CALSCALE:GREGORIAN
METHOD:PUBLISH
UID:988332ca-5a49-4f45-8b3e-a9ff61123fbf
X-WR-CALDESC:
X-WR-RELCALID:664d48f82b1d4c0f7cc6982f7d35f7d5
X-WR-TIMEZONE:America/Anchorage
BEGIN:VTIMEZONE
TZID:America/Anchorage
BEGIN:STANDARD
TZNAME:AKST
DTSTART:20221106T020000
TZOFFSETFROM:-0800
TZOFFSETTO:-0900
RDATE:20231105T020000
END:STANDARD
BEGIN:DAYLIGHT
TZNAME:AKDT
DTSTART:20230312T020000
TZOFFSETFROM:-0900
TZOFFSETTO:-0800
RDATE:20240310T020000
END:DAYLIGHT
END:VTIMEZONE
BEGIN:VEVENT
UID:3a055030-28e2-4ac9-abd8-631c7b265edf
DTSTAMP:20260426T030155Z
DESCRIPTION:
DTSTART;TZID=America/Anchorage:20230318T190000
DTEND;TZID=America/Anchorage:20230318T210000
LOCATION:Saxman Tribal House
SUMMARY:The Monthly Grind!
END:VEVENT
END:VCALENDAR
