BEGIN:VCALENDAR
VERSION:2.0
PRODID:-//www.ketchikanarts.org//NONSGML kigkonsult.se iCalcreator 2.30.10/
 /
CALSCALE:GREGORIAN
METHOD:PUBLISH
UID:cdb16d18-033f-46bc-b1df-eb3e1d7927f4
X-WR-CALDESC:Get your singing on at Open Mic Night every week.\nNo cover ch
 arge.
X-WR-RELCALID:28fccd68a185dedb946e05e4ba742915
X-WR-TIMEZONE:America/Anchorage
BEGIN:VTIMEZONE
TZID:America/Anchorage
BEGIN:STANDARD
TZNAME:AKST
DTSTART:20221106T020000
TZOFFSETFROM:-0800
TZOFFSETTO:-0900
RDATE:20231105T020000
END:STANDARD
BEGIN:DAYLIGHT
TZNAME:AKDT
DTSTART:20220313T020000
TZOFFSETFROM:-0900
TZOFFSETTO:-0800
RDATE:20230312T020000
RDATE:20240310T020000
END:DAYLIGHT
END:VTIMEZONE
BEGIN:VEVENT
UID:20e05a47-72ae-42c9-ba10-e46eb20ceb46
DTSTAMP:20260426T025312Z
DESCRIPTION:Get your singing on at Open Mic Night every week.\nNo cover cha
 rge.
DTSTART;TZID=America/Anchorage:20230312T180000
DTEND;TZID=America/Anchorage:20230312T210000
LOCATION:
SUMMARY:Open Mic Night
END:VEVENT
END:VCALENDAR
