BEGIN:VCALENDAR
VERSION:2.0
PRODID:-//www.ketchikanarts.org//NONSGML kigkonsult.se iCalcreator 2.30.10/
 /
CALSCALE:GREGORIAN
METHOD:PUBLISH
UID:6690002a-9259-478c-a425-0b84b2d8b87c
X-WR-CALDESC:
X-WR-RELCALID:24facb63afa785dac5db917b18ba5b83
X-WR-TIMEZONE:America/Anchorage
BEGIN:VTIMEZONE
TZID:America/Anchorage
BEGIN:STANDARD
TZNAME:AKST
DTSTART:20221106T020000
TZOFFSETFROM:-0800
TZOFFSETTO:-0900
RDATE:20231105T020000
END:STANDARD
BEGIN:DAYLIGHT
TZNAME:AKDT
DTSTART:20220313T020000
TZOFFSETFROM:-0900
TZOFFSETTO:-0800
RDATE:20230312T020000
RDATE:20240310T020000
END:DAYLIGHT
END:VTIMEZONE
BEGIN:VEVENT
UID:6b764769-6de1-46c5-947c-3808a6430b72
DTSTAMP:20260426T030313Z
DESCRIPTION:
DTSTART;TZID=America/Anchorage:20230311T000000
DTEND;TZID=America/Anchorage:20230311T235900
LOCATION:
SUMMARY:First City Players Spring Play
END:VEVENT
END:VCALENDAR
