BEGIN:VCALENDAR
VERSION:2.0
PRODID:-//www.ketchikanarts.org//NONSGML kigkonsult.se iCalcreator 2.30.10/
 /
CALSCALE:GREGORIAN
METHOD:PUBLISH
UID:e80f9f28-2fa5-4ce9-a8fc-93b5d1e1df63
X-WR-CALDESC:
X-WR-RELCALID:e6f90d3a20aac07327556d1d9b3cee3e
X-WR-TIMEZONE:America/Anchorage
BEGIN:VTIMEZONE
TZID:America/Anchorage
BEGIN:STANDARD
TZNAME:AKST
DTSTART:20221106T020000
TZOFFSETFROM:-0800
TZOFFSETTO:-0900
RDATE:20231105T020000
END:STANDARD
BEGIN:DAYLIGHT
TZNAME:AKDT
DTSTART:20220313T020000
TZOFFSETFROM:-0900
TZOFFSETTO:-0800
RDATE:20230312T020000
RDATE:20240310T020000
END:DAYLIGHT
END:VTIMEZONE
BEGIN:VEVENT
UID:eddb9cc6-ff59-4cae-a47c-9424b01a51b5
DTSTAMP:20260426T025751Z
DESCRIPTION:
DTSTART;TZID=America/Anchorage:20230310T000000
DTEND;TZID=America/Anchorage:20230310T235900
LOCATION:
SUMMARY:First City Players Spring Play
END:VEVENT
END:VCALENDAR
