BEGIN:VCALENDAR
VERSION:2.0
PRODID:-//www.ketchikanarts.org//NONSGML kigkonsult.se iCalcreator 2.30.10/
 /
CALSCALE:GREGORIAN
METHOD:PUBLISH
UID:650376ff-4a81-438d-9022-617ad24c2393
X-WR-CALDESC:
X-WR-RELCALID:132db807d6c6525159a5c317643bb94d
X-WR-TIMEZONE:America/Anchorage
BEGIN:VTIMEZONE
TZID:America/Anchorage
BEGIN:STANDARD
TZNAME:AKST
DTSTART:20221106T020000
TZOFFSETFROM:-0800
TZOFFSETTO:-0900
RDATE:20231105T020000
END:STANDARD
BEGIN:DAYLIGHT
TZNAME:AKDT
DTSTART:20220313T020000
TZOFFSETFROM:-0900
TZOFFSETTO:-0800
RDATE:20230312T020000
RDATE:20240310T020000
END:DAYLIGHT
END:VTIMEZONE
BEGIN:VEVENT
UID:1da7d9d3-07bc-497d-b3d9-f2c207ab0ee7
DTSTAMP:20260426T030822Z
DESCRIPTION:
DTSTART;TZID=America/Anchorage:20230309T190000
DTEND;TZID=America/Anchorage:20230309T210000
LOCATION:Main Street Gallery
SUMMARY:Diane Slagle presents the Voices of 60's R&B\, Soul and Rock and Ro
 ll
END:VEVENT
END:VCALENDAR
