BEGIN:VCALENDAR
VERSION:2.0
PRODID:-//www.ketchikanarts.org//NONSGML kigkonsult.se iCalcreator 2.30.10/
 /
CALSCALE:GREGORIAN
METHOD:PUBLISH
UID:59263659-12a3-44fb-97a4-ed4f5a8ab7c9
X-WR-CALDESC:Submit proposal to display your work or to curate an exhibit a
 t one of seven exhibiting months available at the Main Street Gallery. Sub
 mission Deadline: Monday\, March 6th\, 2023.\n\nClick below for submission
  details.
X-WR-RELCALID:e94800fb4871ce14d8426c0c6d99a3d3
X-WR-TIMEZONE:America/Anchorage
BEGIN:VTIMEZONE
TZID:America/Anchorage
BEGIN:STANDARD
TZNAME:AKST
DTSTART:20221106T020000
TZOFFSETFROM:-0800
TZOFFSETTO:-0900
RDATE:20231105T020000
END:STANDARD
BEGIN:DAYLIGHT
TZNAME:AKDT
DTSTART:20220313T020000
TZOFFSETFROM:-0900
TZOFFSETTO:-0800
RDATE:20230312T020000
RDATE:20240310T020000
END:DAYLIGHT
END:VTIMEZONE
BEGIN:VEVENT
UID:a07b6f30-3d10-415b-a231-2dfa5bd4ebfa
DTSTAMP:20260426T030939Z
DESCRIPTION:Submit proposal to display your work or to curate an exhibit at
  one of seven exhibiting months available at the Main Street Gallery. Subm
 ission Deadline: Monday\, March 6th\, 2023.\n\nClick below for submission 
 details.
DTSTART;TZID=America/Anchorage:20230306T090000
DTEND;TZID=America/Anchorage:20230306T170000
LOCATION:330 Main Street\, Ketchikan\, AK 99901 US
SUMMARY:2022-2023 Main Street Gallery Season Call to Artist
END:VEVENT
END:VCALENDAR
