BEGIN:VCALENDAR
VERSION:2.0
PRODID:-//www.ketchikanarts.org//NONSGML kigkonsult.se iCalcreator 2.30.10/
 /
CALSCALE:GREGORIAN
METHOD:PUBLISH
UID:e0f116df-66f2-4f25-915a-169903ec52a5
X-WR-CALDESC:
X-WR-RELCALID:34e06f4db7196c53fc5e3806573f0053
X-WR-TIMEZONE:America/Anchorage
BEGIN:VTIMEZONE
TZID:America/Anchorage
BEGIN:STANDARD
TZNAME:AKST
DTSTART:20221106T020000
TZOFFSETFROM:-0800
TZOFFSETTO:-0900
RDATE:20231105T020000
END:STANDARD
BEGIN:DAYLIGHT
TZNAME:AKDT
DTSTART:20220313T020000
TZOFFSETFROM:-0900
TZOFFSETTO:-0800
RDATE:20230312T020000
RDATE:20240310T020000
END:DAYLIGHT
END:VTIMEZONE
BEGIN:VEVENT
UID:83558443-40d5-4b0c-9520-73984948b644
DTSTAMP:20260426T025511Z
DESCRIPTION:
DTSTART;TZID=America/Anchorage:20230305T143000
DTEND;TZID=America/Anchorage:20230305T163000
LOCATION:Kayhi Auditorium
SUMMARY:CLUE - First City Players
END:VEVENT
END:VCALENDAR
