BEGIN:VCALENDAR
VERSION:2.0
PRODID:-//www.ketchikanarts.org//NONSGML kigkonsult.se iCalcreator 2.30.10/
 /
CALSCALE:GREGORIAN
METHOD:PUBLISH
UID:f1fb0269-5b00-4bb2-9889-46320146a94a
X-WR-CALDESC:
X-WR-RELCALID:2c4596b8cf9c62c2e6ee7b74454df288
X-WR-TIMEZONE:America/Anchorage
BEGIN:VTIMEZONE
TZID:America/Anchorage
BEGIN:STANDARD
TZNAME:AKST
DTSTART:20221106T020000
TZOFFSETFROM:-0800
TZOFFSETTO:-0900
RDATE:20231105T020000
END:STANDARD
BEGIN:DAYLIGHT
TZNAME:AKDT
DTSTART:20220313T020000
TZOFFSETFROM:-0900
TZOFFSETTO:-0800
RDATE:20230312T020000
RDATE:20240310T020000
END:DAYLIGHT
END:VTIMEZONE
BEGIN:VEVENT
UID:4d5c3972-4b6c-46f0-b222-fb97cde2562e
DTSTAMP:20260426T030059Z
DESCRIPTION:
DTSTART;TZID=America/Anchorage:20230304T193000
DTEND;TZID=America/Anchorage:20230304T213000
LOCATION:Kayhi Auditorium
SUMMARY:CLUE - First City Players
END:VEVENT
END:VCALENDAR
