BEGIN:VCALENDAR
VERSION:2.0
PRODID:-//www.ketchikanarts.org//NONSGML kigkonsult.se iCalcreator 2.30.10/
 /
CALSCALE:GREGORIAN
METHOD:PUBLISH
UID:dab435f1-8918-4969-a8b1-36433effa0dd
X-WR-CALDESC:Create and enter a hand-created original illustration of your 
 favorite fish and one page of creative writing on the species chosen! The 
 contest is free and open to any persons grades K-12\, one entry per person
 . Please click the link above for in-detail registration information. St P
 aul\, MN\nDeadline February 28th\, 2023
X-WR-RELCALID:c78fb2675ed472f34f4a72fe5dc87aec
X-WR-TIMEZONE:America/Anchorage
BEGIN:VTIMEZONE
TZID:America/Anchorage
BEGIN:STANDARD
TZNAME:AKST
DTSTART:20221106T020000
TZOFFSETFROM:-0800
TZOFFSETTO:-0900
RDATE:20231105T020000
END:STANDARD
BEGIN:DAYLIGHT
TZNAME:AKDT
DTSTART:20220313T020000
TZOFFSETFROM:-0900
TZOFFSETTO:-0800
RDATE:20230312T020000
RDATE:20240310T020000
END:DAYLIGHT
END:VTIMEZONE
BEGIN:VEVENT
UID:7ce1f072-b8f3-4475-a845-7a3117c2d109
DTSTAMP:20260426T042839Z
DESCRIPTION:Create and enter a hand-created original illustration of your f
 avorite fish and one page of creative writing on the species chosen! The c
 ontest is free and open to any persons grades K-12\, one entry per person.
  Please click the link above for in-detail registration information. St Pa
 ul\, MN\nDeadline February 28th\, 2023
DTSTART;TZID=America/Anchorage:20230228T000000
DTEND;TZID=America/Anchorage:20230228T235900
LOCATION:
SUMMARY:Wildlife Forever 2023 Fish Art Contest
END:VEVENT
END:VCALENDAR
