BEGIN:VCALENDAR
VERSION:2.0
PRODID:-//www.ketchikanarts.org//NONSGML kigkonsult.se iCalcreator 2.30.10/
 /
CALSCALE:GREGORIAN
METHOD:PUBLISH
UID:821b1224-d7cb-4649-84bd-17272b77671f
X-WR-CALDESC:Join us for our monthly meeting!
X-WR-RELCALID:f1ca9a25163072d54bf7d4140ee2989c
X-WR-TIMEZONE:America/Anchorage
BEGIN:VTIMEZONE
TZID:America/Anchorage
BEGIN:STANDARD
TZNAME:AKST
DTSTART:20221106T020000
TZOFFSETFROM:-0800
TZOFFSETTO:-0900
RDATE:20231105T020000
END:STANDARD
BEGIN:DAYLIGHT
TZNAME:AKDT
DTSTART:20220313T020000
TZOFFSETFROM:-0900
TZOFFSETTO:-0800
RDATE:20230312T020000
RDATE:20240310T020000
END:DAYLIGHT
END:VTIMEZONE
BEGIN:VEVENT
UID:c7059ed4-5539-4e22-a0d9-e9c9c67db4d7
DTSTAMP:20260426T042838Z
DESCRIPTION:Join us for our monthly meeting!
DTSTART;TZID=America/Anchorage:20230228T183000
DTEND;TZID=America/Anchorage:20230228T200000
LOCATION:Holy Name Parish Hall
SUMMARY:Rainy Day Quilt Guild Meeting
END:VEVENT
END:VCALENDAR
