BEGIN:VCALENDAR
VERSION:2.0
PRODID:-//www.ketchikanarts.org//NONSGML kigkonsult.se iCalcreator 2.30.10/
 /
CALSCALE:GREGORIAN
METHOD:PUBLISH
UID:7bfafe7e-16a2-4090-95e7-7a4ee78c155f
X-WR-CALDESC:Open Call Submission Deadline Today
X-WR-RELCALID:c88473ecd189ba7349c85325473ff1cd
X-WR-TIMEZONE:America/Anchorage
BEGIN:VTIMEZONE
TZID:America/Anchorage
BEGIN:STANDARD
TZNAME:AKST
DTSTART:20221106T020000
TZOFFSETFROM:-0800
TZOFFSETTO:-0900
RDATE:20231105T020000
END:STANDARD
BEGIN:DAYLIGHT
TZNAME:AKDT
DTSTART:20220313T020000
TZOFFSETFROM:-0900
TZOFFSETTO:-0800
RDATE:20230312T020000
RDATE:20240310T020000
END:DAYLIGHT
END:VTIMEZONE
BEGIN:VEVENT
UID:68dd6014-4f85-48aa-a8c9-e68a84a88273
DTSTAMP:20260426T042424Z
DESCRIPTION:Open Call Submission Deadline Today
DTSTART;TZID=America/Anchorage:20230224T090000
DTEND;TZID=America/Anchorage:20230224T170000
LOCATION:Main Street Gallery
SUMMARY:'Squaring Off'- Open Call Submission Deadline
END:VEVENT
END:VCALENDAR
