BEGIN:VCALENDAR
VERSION:2.0
PRODID:-//www.ketchikanarts.org//NONSGML kigkonsult.se iCalcreator 2.30.10/
 /
CALSCALE:GREGORIAN
METHOD:PUBLISH
UID:3304e7e0-8b2a-4169-be91-6fe1a0d124a2
X-WR-CALDESC:The Evening of Dance performances are coming to the Kayhi Audi
 torium Dates are Thursday\, February 23rd and Friday\, February 24th and b
 oth shows are at 7:00pm. Tickets will be available online starting Thursda
 y\, February 2nd at www.KetchikanTheatreBallet.com or by calling our offic
 e at 907-225-9311.
X-WR-RELCALID:a63f5b387044d3c814c0e1e32a79daf1
X-WR-TIMEZONE:America/Anchorage
BEGIN:VTIMEZONE
TZID:America/Anchorage
BEGIN:STANDARD
TZNAME:AKST
DTSTART:20221106T020000
TZOFFSETFROM:-0800
TZOFFSETTO:-0900
RDATE:20231105T020000
END:STANDARD
BEGIN:DAYLIGHT
TZNAME:AKDT
DTSTART:20220313T020000
TZOFFSETFROM:-0900
TZOFFSETTO:-0800
RDATE:20230312T020000
RDATE:20240310T020000
END:DAYLIGHT
END:VTIMEZONE
BEGIN:VEVENT
UID:a57de54b-81e1-46ef-919a-e80ca19d8c0b
DTSTAMP:20260426T043203Z
DESCRIPTION:The Evening of Dance performances are coming to the Kayhi Audit
 orium Dates are Thursday\, February 23rd and Friday\, February 24th and bo
 th shows are at 7:00pm. Tickets will be available online starting Thursday
 \, February 2nd at www.KetchikanTheatreBallet.com or by calling our office
  at 907-225-9311.
DTSTART;TZID=America/Anchorage:20230223T190000
DTEND;TZID=America/Anchorage:20230223T200000
LOCATION:Ketchikan High School Auditorium
SUMMARY:Ketchikan Theatre Ballet Evening of Dance
END:VEVENT
END:VCALENDAR
