BEGIN:VCALENDAR
VERSION:2.0
PRODID:-//www.ketchikanarts.org//NONSGML kigkonsult.se iCalcreator 2.30.10/
 /
CALSCALE:GREGORIAN
METHOD:PUBLISH
UID:060d94ff-4f43-4c57-a6d8-976f8b6492a1
X-WR-CALDESC:
X-WR-RELCALID:0e7bc252524200e4f0d638fc03264680
X-WR-TIMEZONE:America/Anchorage
BEGIN:VTIMEZONE
TZID:America/Anchorage
BEGIN:STANDARD
TZNAME:AKST
DTSTART:20221106T020000
TZOFFSETFROM:-0800
TZOFFSETTO:-0900
RDATE:20231105T020000
END:STANDARD
BEGIN:DAYLIGHT
TZNAME:AKDT
DTSTART:20220313T020000
TZOFFSETFROM:-0900
TZOFFSETTO:-0800
RDATE:20230312T020000
RDATE:20240310T020000
END:DAYLIGHT
END:VTIMEZONE
BEGIN:VEVENT
UID:6b1ccbb4-d5f9-4637-b4b4-b991233501fb
DTSTAMP:20260426T042513Z
DESCRIPTION:
DTSTART;TZID=America/Anchorage:20230218T190000
DTEND;TZID=America/Anchorage:20230218T210000
LOCATION:Saxman Tribal House
SUMMARY:The Monthly Grind!!!
END:VEVENT
END:VCALENDAR
