BEGIN:VCALENDAR
VERSION:2.0
PRODID:-//www.ketchikanarts.org//NONSGML kigkonsult.se iCalcreator 2.30.10/
 /
CALSCALE:GREGORIAN
METHOD:PUBLISH
UID:0f6d9d15-f9df-49ba-a4c6-d760cf2016af
X-WR-CALDESC:Celebrate the life of Alaska civil rights leader Elizabeth Per
 atrovich. Elizabeth Peratrovich was a Raven of the Tlingit Lukaax.ádi clan
 \, and a major force behind the passage of Alaska’s Anti-Discrimination Bi
 ll in 1945.
X-WR-RELCALID:08421fb36925d2f1c2fa6155df866fa0
X-WR-TIMEZONE:America/Anchorage
BEGIN:VTIMEZONE
TZID:America/Anchorage
BEGIN:STANDARD
TZNAME:AKST
DTSTART:20221106T020000
TZOFFSETFROM:-0800
TZOFFSETTO:-0900
RDATE:20231105T020000
END:STANDARD
BEGIN:DAYLIGHT
TZNAME:AKDT
DTSTART:20220313T020000
TZOFFSETFROM:-0900
TZOFFSETTO:-0800
RDATE:20230312T020000
RDATE:20240310T020000
END:DAYLIGHT
END:VTIMEZONE
BEGIN:VEVENT
UID:871c3bd6-f5e0-4660-8c3b-5a8af76a4c75
DTSTAMP:20260426T041856Z
DESCRIPTION:Celebrate the life of Alaska civil rights leader Elizabeth Pera
 trovich. Elizabeth Peratrovich was a Raven of the Tlingit Lukaax.ádi clan\
 , and a major force behind the passage of Alaska’s Anti-Discrimination Bil
 l in 1945.
DTSTART;TZID=America/Anchorage:20230217T170000
DTEND;TZID=America/Anchorage:20230217T180000
LOCATION:Southeast Alaska Discovery Center
SUMMARY:SEADC Friday Night Insight - Elizabeth Peratrovich Celebration
END:VEVENT
END:VCALENDAR
