BEGIN:VCALENDAR
VERSION:2.0
PRODID:-//www.ketchikanarts.org//NONSGML kigkonsult.se iCalcreator 2.30.10/
 /
CALSCALE:GREGORIAN
METHOD:PUBLISH
UID:c665bb3d-43ad-44a6-80d4-b3d21f67a52b
X-WR-CALDESC:
X-WR-RELCALID:44f181c901413bb7ba5f5e1e207ec798
X-WR-TIMEZONE:America/Anchorage
BEGIN:VTIMEZONE
TZID:America/Anchorage
BEGIN:STANDARD
TZNAME:AKST
DTSTART:20221106T020000
TZOFFSETFROM:-0800
TZOFFSETTO:-0900
RDATE:20231105T020000
END:STANDARD
BEGIN:DAYLIGHT
TZNAME:AKDT
DTSTART:20220313T020000
TZOFFSETFROM:-0900
TZOFFSETTO:-0800
RDATE:20230312T020000
RDATE:20240310T020000
END:DAYLIGHT
END:VTIMEZONE
BEGIN:VEVENT
UID:52f63253-28e9-40a9-ac38-65d776a0237e
DTSTAMP:20260426T041855Z
DESCRIPTION:
DTSTART;TZID=America/Anchorage:20230216T180000
DTEND;TZID=America/Anchorage:20230216T190000
LOCATION:
SUMMARY:Virtual Elizabeth Peratrovich Day Celebration
END:VEVENT
END:VCALENDAR
