BEGIN:VCALENDAR
VERSION:2.0
PRODID:-//www.ketchikanarts.org//NONSGML kigkonsult.se iCalcreator 2.30.10/
 /
CALSCALE:GREGORIAN
METHOD:PUBLISH
UID:54b8ba9e-6137-4737-b811-b08e4e007478
X-WR-CALDESC:Music Through Many Decades a Broad Perspective\, Hosted by Dia
 ne Slagle at the Main Street Gallery \n\nIn February Diane presents the 50
 's Powerful voices\, Powerful Writing\, Nina Simone\, Peggy Lee\n\nTickets
  are $15 at the door!
X-WR-RELCALID:63bb098e7aec993e71a54bf49b832e45
X-WR-TIMEZONE:America/Anchorage
BEGIN:VTIMEZONE
TZID:America/Anchorage
BEGIN:STANDARD
TZNAME:AKST
DTSTART:20221106T020000
TZOFFSETFROM:-0800
TZOFFSETTO:-0900
RDATE:20231105T020000
END:STANDARD
BEGIN:DAYLIGHT
TZNAME:AKDT
DTSTART:20220313T020000
TZOFFSETFROM:-0900
TZOFFSETTO:-0800
RDATE:20230312T020000
RDATE:20240310T020000
END:DAYLIGHT
END:VTIMEZONE
BEGIN:VEVENT
UID:2bdd7f07-755b-4070-ad5d-1923e430a340
DTSTAMP:20260426T043210Z
DESCRIPTION:Music Through Many Decades a Broad Perspective\, Hosted by Dian
 e Slagle at the Main Street Gallery \n\nIn February Diane presents the 50'
 s Powerful voices\, Powerful Writing\, Nina Simone\, Peggy Lee\n\nTickets 
 are $15 at the door!
DTSTART;TZID=America/Anchorage:20230216T190000
DTEND;TZID=America/Anchorage:20230216T210000
LOCATION:Main Street Gallery
SUMMARY:Diane Slagle presents the Powerful Voices of the 50's
END:VEVENT
END:VCALENDAR
